BEGIN:VCALENDAR
VERSION:2.0
PRODID:-//Film Concerts Live - ECPv6.15.20//NONSGML v1.0//EN
CALSCALE:GREGORIAN
METHOD:PUBLISH
X-WR-CALNAME:Film Concerts Live
X-ORIGINAL-URL:https://filmconcertslive.com
X-WR-CALDESC:Events for Film Concerts Live
REFRESH-INTERVAL;VALUE=DURATION:PT1H
X-Robots-Tag:noindex
X-PUBLISHED-TTL:PT1H
BEGIN:VTIMEZONE
TZID:America/Los_Angeles
BEGIN:DAYLIGHT
TZOFFSETFROM:-0800
TZOFFSETTO:-0700
TZNAME:PDT
DTSTART:20250309T100000
END:DAYLIGHT
BEGIN:STANDARD
TZOFFSETFROM:-0700
TZOFFSETTO:-0800
TZNAME:PST
DTSTART:20251102T090000
END:STANDARD
BEGIN:DAYLIGHT
TZOFFSETFROM:-0800
TZOFFSETTO:-0700
TZNAME:PDT
DTSTART:20260308T100000
END:DAYLIGHT
BEGIN:STANDARD
TZOFFSETFROM:-0700
TZOFFSETTO:-0800
TZNAME:PST
DTSTART:20261101T090000
END:STANDARD
BEGIN:DAYLIGHT
TZOFFSETFROM:-0800
TZOFFSETTO:-0700
TZNAME:PDT
DTSTART:20270314T100000
END:DAYLIGHT
BEGIN:STANDARD
TZOFFSETFROM:-0700
TZOFFSETTO:-0800
TZNAME:PST
DTSTART:20271107T090000
END:STANDARD
BEGIN:DAYLIGHT
TZOFFSETFROM:-0800
TZOFFSETTO:-0700
TZNAME:PDT
DTSTART:20280312T100000
END:DAYLIGHT
BEGIN:STANDARD
TZOFFSETFROM:-0700
TZOFFSETTO:-0800
TZNAME:PST
DTSTART:20281105T090000
END:STANDARD
END:VTIMEZONE
BEGIN:VEVENT
DTSTART;TZID=America/Los_Angeles:20260513T200000
DTEND;TZID=America/Los_Angeles:20260513T200000
DTSTAMP:20260424T165106
CREATED:20251119T203317Z
LAST-MODIFIED:20251119T203317Z
UID:6658-1778702400-1778702400@filmconcertslive.com
SUMMARY:How To Train Your Dragon in Concert
DESCRIPTION:
URL:https://filmconcertslive.com/concert/how-to-train-your-dragon-in-concert-116/
LOCATION:Auditorium Orchestre National de Lyon\, 149 Rue Garibaldi\, Lyon\, 69003\, France
CATEGORIES:How To Train Your Dragon
ATTACH;FMTTYPE=image/jpeg:https://filmconcertslive.com/wp-content/uploads/2023/06/HTTYD_Poster.jpg
END:VEVENT
BEGIN:VEVENT
DTSTART;TZID=America/Los_Angeles:20260514T150000
DTEND;TZID=America/Los_Angeles:20260514T150000
DTSTAMP:20260424T165106
CREATED:20251119T203419Z
LAST-MODIFIED:20251119T203419Z
UID:6659-1778770800-1778770800@filmconcertslive.com
SUMMARY:How To Train Your Dragon in Concert
DESCRIPTION:
URL:https://filmconcertslive.com/concert/how-to-train-your-dragon-in-concert-117/
LOCATION:Auditorium Orchestre National de Lyon\, 149 Rue Garibaldi\, Lyon\, 69003\, France
CATEGORIES:How To Train Your Dragon
ATTACH;FMTTYPE=image/jpeg:https://filmconcertslive.com/wp-content/uploads/2023/06/HTTYD_Poster.jpg
END:VEVENT
BEGIN:VEVENT
DTSTART;TZID=America/Los_Angeles:20260516T150000
DTEND;TZID=America/Los_Angeles:20260516T150000
DTSTAMP:20260424T165106
CREATED:20260324T191852Z
LAST-MODIFIED:20260324T191852Z
UID:6771-1778943600-1778943600@filmconcertslive.com
SUMMARY:How To Train Your Dragon in Concert
DESCRIPTION:
URL:https://filmconcertslive.com/concert/how-to-train-your-dragon-in-concert-132/
LOCATION:Prince Mahidol Hall\, Phutthamonthon Sai 4 Rd\, Salaya\, Nakhon Pathom\, Phutthamonthon District\, 73170\, Thailand
CATEGORIES:How To Train Your Dragon
ATTACH;FMTTYPE=image/jpeg:https://filmconcertslive.com/wp-content/uploads/2023/06/HTTYD_Poster.jpg
END:VEVENT
BEGIN:VEVENT
DTSTART;TZID=America/Los_Angeles:20260516T180000
DTEND;TZID=America/Los_Angeles:20260516T180000
DTSTAMP:20260424T165106
CREATED:20251119T203539Z
LAST-MODIFIED:20251119T203539Z
UID:6661-1778954400-1778954400@filmconcertslive.com
SUMMARY:How To Train Your Dragon in Concert
DESCRIPTION:
URL:https://filmconcertslive.com/concert/how-to-train-your-dragon-in-concert-118/
LOCATION:Auditorium Orchestre National de Lyon\, 149 Rue Garibaldi\, Lyon\, 69003\, France
CATEGORIES:How To Train Your Dragon
ATTACH;FMTTYPE=image/jpeg:https://filmconcertslive.com/wp-content/uploads/2023/06/HTTYD_Poster.jpg
END:VEVENT
BEGIN:VEVENT
DTSTART;TZID=America/Los_Angeles:20260517T150000
DTEND;TZID=America/Los_Angeles:20260517T150000
DTSTAMP:20260424T165106
CREATED:20260324T191957Z
LAST-MODIFIED:20260324T191957Z
UID:6773-1779030000-1779030000@filmconcertslive.com
SUMMARY:How To Train Your Dragon in Concert
DESCRIPTION:
URL:https://filmconcertslive.com/concert/how-to-train-your-dragon-in-concert-133/
LOCATION:Prince Mahidol Hall\, Phutthamonthon Sai 4 Rd\, Salaya\, Nakhon Pathom\, Phutthamonthon District\, 73170\, Thailand
CATEGORIES:How To Train Your Dragon
ATTACH;FMTTYPE=image/jpeg:https://filmconcertslive.com/wp-content/uploads/2023/06/HTTYD_Poster.jpg
END:VEVENT
BEGIN:VEVENT
DTSTART;TZID=America/Los_Angeles:20260522T193000
DTEND;TZID=America/Los_Angeles:20260522T193000
DTSTAMP:20260424T165106
CREATED:20250709T001846Z
LAST-MODIFIED:20250709T001846Z
UID:6465-1779478200-1779478200@filmconcertslive.com
SUMMARY:How To Train Your Dragon in Concert
DESCRIPTION:
URL:https://filmconcertslive.com/concert/how-to-train-your-dragon-in-concert-92/
LOCATION:Schermerhorn Symphony Center\, 1 Symphony Place\, Nashville\, TN\, 37201\, United States
CATEGORIES:How To Train Your Dragon
ATTACH;FMTTYPE=image/jpeg:https://filmconcertslive.com/wp-content/uploads/2023/06/HTTYD_Poster.jpg
END:VEVENT
BEGIN:VEVENT
DTSTART;TZID=America/Los_Angeles:20260523T110000
DTEND;TZID=America/Los_Angeles:20260523T110000
DTSTAMP:20260424T165106
CREATED:20251119T203039Z
LAST-MODIFIED:20251119T203039Z
UID:6657-1779534000-1779534000@filmconcertslive.com
SUMMARY:How To Train Your Dragon in Concert
DESCRIPTION:
URL:https://filmconcertslive.com/concert/how-to-train-your-dragon-in-concert-115/
LOCATION:Schermerhorn Symphony Center\, 1 Symphony Place\, Nashville\, TN\, 37201\, United States
CATEGORIES:How To Train Your Dragon
ATTACH;FMTTYPE=image/jpeg:https://filmconcertslive.com/wp-content/uploads/2023/06/HTTYD_Poster.jpg
END:VEVENT
BEGIN:VEVENT
DTSTART;TZID=America/Los_Angeles:20260523T193000
DTEND;TZID=America/Los_Angeles:20260523T193000
DTSTAMP:20260424T165106
CREATED:20250709T001950Z
LAST-MODIFIED:20250709T001950Z
UID:6466-1779564600-1779564600@filmconcertslive.com
SUMMARY:How To Train Your Dragon in Concert
DESCRIPTION:
URL:https://filmconcertslive.com/concert/how-to-train-your-dragon-in-concert-93/
LOCATION:Schermerhorn Symphony Center\, 1 Symphony Place\, Nashville\, TN\, 37201\, United States
CATEGORIES:How To Train Your Dragon
ATTACH;FMTTYPE=image/jpeg:https://filmconcertslive.com/wp-content/uploads/2023/06/HTTYD_Poster.jpg
END:VEVENT
BEGIN:VEVENT
DTSTART;TZID=America/Los_Angeles:20260524T140000
DTEND;TZID=America/Los_Angeles:20260524T140000
DTSTAMP:20260424T165106
CREATED:20250709T002103Z
LAST-MODIFIED:20250709T002103Z
UID:6467-1779631200-1779631200@filmconcertslive.com
SUMMARY:How To Train Your Dragon in Concert
DESCRIPTION:
URL:https://filmconcertslive.com/concert/how-to-train-your-dragon-in-concert-94/
LOCATION:Schermerhorn Symphony Center\, 1 Symphony Place\, Nashville\, TN\, 37201\, United States
CATEGORIES:How To Train Your Dragon
ATTACH;FMTTYPE=image/jpeg:https://filmconcertslive.com/wp-content/uploads/2023/06/HTTYD_Poster.jpg
END:VEVENT
BEGIN:VEVENT
DTSTART;TZID=America/Los_Angeles:20260530T193000
DTEND;TZID=America/Los_Angeles:20260530T193000
DTSTAMP:20260424T165106
CREATED:20260324T192219Z
LAST-MODIFIED:20260324T192219Z
UID:6774-1780169400-1780169400@filmconcertslive.com
SUMMARY:How To Train Your Dragon in Concert
DESCRIPTION:
URL:https://filmconcertslive.com/concert/how-to-train-your-dragon-in-concert-134/
LOCATION:Symphony Hall- Boston\, 301 Massachusetts Ave\, Boston\, MA\, 02115\, United States
CATEGORIES:How To Train Your Dragon
ATTACH;FMTTYPE=image/jpeg:https://filmconcertslive.com/wp-content/uploads/2023/06/HTTYD_Poster.jpg
END:VEVENT
BEGIN:VEVENT
DTSTART;TZID=America/Los_Angeles:20260531T193000
DTEND;TZID=America/Los_Angeles:20260531T193000
DTSTAMP:20260424T165106
CREATED:20260324T192326Z
LAST-MODIFIED:20260324T192326Z
UID:6775-1780255800-1780255800@filmconcertslive.com
SUMMARY:How To Train Your Dragon in Concert
DESCRIPTION:
URL:https://filmconcertslive.com/concert/how-to-train-your-dragon-in-concert-135/
LOCATION:Symphony Hall- Boston\, 301 Massachusetts Ave\, Boston\, MA\, 02115\, United States
CATEGORIES:How To Train Your Dragon
ATTACH;FMTTYPE=image/jpeg:https://filmconcertslive.com/wp-content/uploads/2023/06/HTTYD_Poster.jpg
END:VEVENT
BEGIN:VEVENT
DTSTART;TZID=America/Los_Angeles:20260613T190000
DTEND;TZID=America/Los_Angeles:20260613T190000
DTSTAMP:20260424T165106
CREATED:20251119T203723Z
LAST-MODIFIED:20251119T203723Z
UID:6662-1781377200-1781377200@filmconcertslive.com
SUMMARY:How To Train Your Dragon in Concert
DESCRIPTION:
URL:https://filmconcertslive.com/concert/how-to-train-your-dragon-in-concert-119/
LOCATION:Adelaide Entertainment Centre\, 98 Port Rd Hindmarsh\, Adelaide\, SA5007\, Australia
CATEGORIES:How To Train Your Dragon
ATTACH;FMTTYPE=image/jpeg:https://filmconcertslive.com/wp-content/uploads/2023/06/HTTYD_Poster.jpg
END:VEVENT
BEGIN:VEVENT
DTSTART;TZID=America/Los_Angeles:20260710T200000
DTEND;TZID=America/Los_Angeles:20260710T200000
DTSTAMP:20260424T165106
CREATED:20251119T204217Z
LAST-MODIFIED:20251119T204217Z
UID:6663-1783713600-1783713600@filmconcertslive.com
SUMMARY:How To Train Your Dragon in Concert
DESCRIPTION:
URL:https://filmconcertslive.com/concert/how-to-train-your-dragon-in-concert-120/
LOCATION:Benaroya Hall\, 200 University St\, Seattle\, WA\, 98101\, United States
CATEGORIES:How To Train Your Dragon
ATTACH;FMTTYPE=image/jpeg:https://filmconcertslive.com/wp-content/uploads/2023/06/HTTYD_Poster.jpg
END:VEVENT
BEGIN:VEVENT
DTSTART;TZID=America/Los_Angeles:20260711T200000
DTEND;TZID=America/Los_Angeles:20260711T200000
DTSTAMP:20260424T165106
CREATED:20251119T204345Z
LAST-MODIFIED:20251119T204345Z
UID:6664-1783800000-1783800000@filmconcertslive.com
SUMMARY:How To Train Your Dragon in Concert
DESCRIPTION:
URL:https://filmconcertslive.com/concert/how-to-train-your-dragon-in-concert-121/
LOCATION:Benaroya Hall\, 200 University St\, Seattle\, WA\, 98101\, United States
CATEGORIES:How To Train Your Dragon
ATTACH;FMTTYPE=image/jpeg:https://filmconcertslive.com/wp-content/uploads/2023/06/HTTYD_Poster.jpg
END:VEVENT
BEGIN:VEVENT
DTSTART;TZID=America/Los_Angeles:20260712T140000
DTEND;TZID=America/Los_Angeles:20260712T140000
DTSTAMP:20260424T165106
CREATED:20251119T204455Z
LAST-MODIFIED:20251119T204455Z
UID:6665-1783864800-1783864800@filmconcertslive.com
SUMMARY:How To Train Your Dragon in Concert
DESCRIPTION:
URL:https://filmconcertslive.com/concert/how-to-train-your-dragon-in-concert-122/
LOCATION:Benaroya Hall\, 200 University St\, Seattle\, WA\, 98101\, United States
CATEGORIES:How To Train Your Dragon
ATTACH;FMTTYPE=image/jpeg:https://filmconcertslive.com/wp-content/uploads/2023/06/HTTYD_Poster.jpg
END:VEVENT
BEGIN:VEVENT
DTSTART;TZID=America/Los_Angeles:20260717T193000
DTEND;TZID=America/Los_Angeles:20260717T193000
DTSTAMP:20260424T165106
CREATED:20251119T204803Z
LAST-MODIFIED:20251119T204803Z
UID:6666-1784316600-1784316600@filmconcertslive.com
SUMMARY:How To Train Your Dragon in Concert
DESCRIPTION:
URL:https://filmconcertslive.com/concert/how-to-train-your-dragon-in-concert-123/
LOCATION:Riverside Theatre\, Mount Bay Road 21\, Perth\, 6000\, Australia
CATEGORIES:How To Train Your Dragon
ATTACH;FMTTYPE=image/jpeg:https://filmconcertslive.com/wp-content/uploads/2023/06/HTTYD_Poster.jpg
END:VEVENT
BEGIN:VEVENT
DTSTART;TZID=America/Los_Angeles:20260718T130000
DTEND;TZID=America/Los_Angeles:20260718T130000
DTSTAMP:20260424T165106
CREATED:20251119T204927Z
LAST-MODIFIED:20251119T204927Z
UID:6667-1784379600-1784379600@filmconcertslive.com
SUMMARY:How To Train Your Dragon in Concert
DESCRIPTION:
URL:https://filmconcertslive.com/concert/how-to-train-your-dragon-in-concert-124/
LOCATION:Riverside Theatre\, Mount Bay Road 21\, Perth\, 6000\, Australia
CATEGORIES:How To Train Your Dragon
ATTACH;FMTTYPE=image/jpeg:https://filmconcertslive.com/wp-content/uploads/2023/06/HTTYD_Poster.jpg
END:VEVENT
BEGIN:VEVENT
DTSTART;TZID=America/Los_Angeles:20260718T190000
DTEND;TZID=America/Los_Angeles:20260718T190000
DTSTAMP:20260424T165106
CREATED:20251119T205052Z
LAST-MODIFIED:20251119T205052Z
UID:6669-1784401200-1784401200@filmconcertslive.com
SUMMARY:How To Train Your Dragon in Concert
DESCRIPTION:
URL:https://filmconcertslive.com/concert/how-to-train-your-dragon-in-concert-125/
LOCATION:Riverside Theatre\, Mount Bay Road 21\, Perth\, 6000\, Australia
CATEGORIES:How To Train Your Dragon
ATTACH;FMTTYPE=image/jpeg:https://filmconcertslive.com/wp-content/uploads/2023/06/HTTYD_Poster.jpg
END:VEVENT
BEGIN:VEVENT
DTSTART;TZID=America/Los_Angeles:20260809T193000
DTEND;TZID=America/Los_Angeles:20260809T193000
DTSTAMP:20260424T165106
CREATED:20260324T192637Z
LAST-MODIFIED:20260324T192637Z
UID:6776-1786303800-1786303800@filmconcertslive.com
SUMMARY:How To Train Your Dragon in Concert
DESCRIPTION:
URL:https://filmconcertslive.com/concert/how-to-train-your-dragon-in-concert-136/
LOCATION:Hollywood Bowl\, 2301 Highland Ave\, Los Angeles\, CA\, 90068\, United States
CATEGORIES:How To Train Your Dragon
ATTACH;FMTTYPE=image/jpeg:https://filmconcertslive.com/wp-content/uploads/2023/06/HTTYD_Poster.jpg
END:VEVENT
BEGIN:VEVENT
DTSTART;TZID=America/Los_Angeles:20261113T200000
DTEND;TZID=America/Los_Angeles:20261113T200000
DTSTAMP:20260424T165106
CREATED:20260324T192940Z
LAST-MODIFIED:20260324T192940Z
UID:6777-1794600000-1794600000@filmconcertslive.com
SUMMARY:How To Train Your Dragon in Concert
DESCRIPTION:
URL:https://filmconcertslive.com/concert/how-to-train-your-dragon-in-concert-137/
LOCATION:Martin Marietta Performing Arts Center\, 2 E South St\, Raleigh\, NC\, 27601\, United States
CATEGORIES:How To Train Your Dragon
ATTACH;FMTTYPE=image/jpeg:https://filmconcertslive.com/wp-content/uploads/2023/06/HTTYD_Poster.jpg
END:VEVENT
BEGIN:VEVENT
DTSTART;TZID=America/Los_Angeles:20261114T133000
DTEND;TZID=America/Los_Angeles:20261114T133000
DTSTAMP:20260424T165106
CREATED:20251119T205352Z
LAST-MODIFIED:20251119T205352Z
UID:6670-1794663000-1794663000@filmconcertslive.com
SUMMARY:How To Train Your Dragon in Concert
DESCRIPTION:
URL:https://filmconcertslive.com/concert/how-to-train-your-dragon-in-concert-126/
LOCATION:Brisbane Convention & Exhibition Centre\, Glenelg St\, Brisbane\, QLD 4101\, Australia
CATEGORIES:How To Train Your Dragon
ATTACH;FMTTYPE=image/jpeg:https://filmconcertslive.com/wp-content/uploads/2023/06/HTTYD_Poster.jpg
END:VEVENT
BEGIN:VEVENT
DTSTART;TZID=America/Los_Angeles:20261114T150000
DTEND;TZID=America/Los_Angeles:20261114T150000
DTSTAMP:20260424T165106
CREATED:20260324T193107Z
LAST-MODIFIED:20260324T193107Z
UID:6778-1794668400-1794668400@filmconcertslive.com
SUMMARY:How To Train Your Dragon in Concert
DESCRIPTION:
URL:https://filmconcertslive.com/concert/how-to-train-your-dragon-in-concert-138/
LOCATION:Martin Marietta Performing Arts Center\, 2 E South St\, Raleigh\, NC\, 27601\, United States
CATEGORIES:How To Train Your Dragon
ATTACH;FMTTYPE=image/jpeg:https://filmconcertslive.com/wp-content/uploads/2023/06/HTTYD_Poster.jpg
END:VEVENT
BEGIN:VEVENT
DTSTART;TZID=America/Los_Angeles:20261114T183000
DTEND;TZID=America/Los_Angeles:20261114T183000
DTSTAMP:20260424T165106
CREATED:20251119T205521Z
LAST-MODIFIED:20251119T205521Z
UID:6671-1794681000-1794681000@filmconcertslive.com
SUMMARY:How To Train Dragon in Concert
DESCRIPTION:
URL:https://filmconcertslive.com/concert/how-to-train-dragon-in-concert/
LOCATION:Brisbane Convention & Exhibition Centre\, Glenelg St\, Brisbane\, QLD 4101\, Australia
CATEGORIES:How To Train Your Dragon
ATTACH;FMTTYPE=image/jpeg:https://filmconcertslive.com/wp-content/uploads/2023/06/HTTYD_Poster.jpg
END:VEVENT
BEGIN:VEVENT
DTSTART;TZID=America/Los_Angeles:20261128T020000
DTEND;TZID=America/Los_Angeles:20261128T140000
DTSTAMP:20260424T165106
CREATED:20260324T193939Z
LAST-MODIFIED:20260324T193939Z
UID:6779-1795831200-1795874400@filmconcertslive.com
SUMMARY:How To Train Your Dragon in Concert
DESCRIPTION:
URL:https://filmconcertslive.com/concert/how-to-train-your-dragon-in-concert-139/
LOCATION:Orchestra Hall\, 1111 Nicollet Mall\, Minneapolis\, MN\, 55403\, United States
CATEGORIES:How To Train Your Dragon
ATTACH;FMTTYPE=image/jpeg:https://filmconcertslive.com/wp-content/uploads/2023/06/HTTYD_Poster.jpg
END:VEVENT
BEGIN:VEVENT
DTSTART;TZID=America/Los_Angeles:20261128T190000
DTEND;TZID=America/Los_Angeles:20261128T190000
DTSTAMP:20260424T165106
CREATED:20260324T194043Z
LAST-MODIFIED:20260324T194043Z
UID:6780-1795892400-1795892400@filmconcertslive.com
SUMMARY:How To Train Your Dragon in Concert
DESCRIPTION:
URL:https://filmconcertslive.com/concert/how-to-train-your-dragon-in-concert-140/
LOCATION:Orchestra Hall\, 1111 Nicollet Mall\, Minneapolis\, MN\, 55403\, United States
CATEGORIES:How To Train Your Dragon
ATTACH;FMTTYPE=image/jpeg:https://filmconcertslive.com/wp-content/uploads/2023/06/HTTYD_Poster.jpg
END:VEVENT
BEGIN:VEVENT
DTSTART;TZID=America/Los_Angeles:20261129T140000
DTEND;TZID=America/Los_Angeles:20261129T140000
DTSTAMP:20260424T165106
CREATED:20260324T194148Z
LAST-MODIFIED:20260324T194148Z
UID:6781-1795960800-1795960800@filmconcertslive.com
SUMMARY:How To Train Your Dragon in Concert
DESCRIPTION:
URL:https://filmconcertslive.com/concert/how-to-train-your-dragon-in-concert-141/
LOCATION:Orchestra Hall\, 1111 Nicollet Mall\, Minneapolis\, MN\, 55403\, United States
CATEGORIES:How To Train Your Dragon
ATTACH;FMTTYPE=image/jpeg:https://filmconcertslive.com/wp-content/uploads/2023/06/HTTYD_Poster.jpg
END:VEVENT
BEGIN:VEVENT
DTSTART;TZID=America/Los_Angeles:20270115T193000
DTEND;TZID=America/Los_Angeles:20270115T193000
DTSTAMP:20260424T165106
CREATED:20260324T194531Z
LAST-MODIFIED:20260324T194531Z
UID:6782-1800041400-1800041400@filmconcertslive.com
SUMMARY:How To Train Your Dragon in Concert
DESCRIPTION:
URL:https://filmconcertslive.com/concert/how-to-train-your-dragon-in-concert-142/
LOCATION:Civic Center Music Hall\, 201 N Walker Ave\, Oklahoma City\, OK\, 73102\, United States
CATEGORIES:How To Train Your Dragon
ATTACH;FMTTYPE=image/jpeg:https://filmconcertslive.com/wp-content/uploads/2023/06/HTTYD_Poster.jpg
END:VEVENT
BEGIN:VEVENT
DTSTART;TZID=America/Los_Angeles:20270116T193000
DTEND;TZID=America/Los_Angeles:20270116T193000
DTSTAMP:20260424T165106
CREATED:20260324T194743Z
LAST-MODIFIED:20260324T194743Z
UID:6784-1800127800-1800127800@filmconcertslive.com
SUMMARY:How To Train Your Dragon in Concert
DESCRIPTION:
URL:https://filmconcertslive.com/concert/how-to-train-your-dragon-in-concert-143/
LOCATION:Civic Center Music Hall\, 201 N Walker Ave\, Oklahoma City\, OK\, 73102\, United States
CATEGORIES:How To Train Your Dragon
ATTACH;FMTTYPE=image/jpeg:https://filmconcertslive.com/wp-content/uploads/2023/06/HTTYD_Poster.jpg
END:VEVENT
BEGIN:VEVENT
DTSTART;TZID=America/Los_Angeles:20270220T193000
DTEND;TZID=America/Los_Angeles:20270220T193000
DTSTAMP:20260424T165106
CREATED:20260324T195053Z
LAST-MODIFIED:20260324T195053Z
UID:6785-1803151800-1803151800@filmconcertslive.com
SUMMARY:How To Train Your Dragon in Concert
DESCRIPTION:
URL:https://filmconcertslive.com/concert/how-to-train-your-dragon-in-concert-144/
LOCATION:Konzertsaal Luzern\, Europaplatz 1\, Lucerne\, 6005\, Switzerland
CATEGORIES:How To Train Your Dragon
ATTACH;FMTTYPE=image/jpeg:https://filmconcertslive.com/wp-content/uploads/2023/06/HTTYD_Poster.jpg
END:VEVENT
BEGIN:VEVENT
DTSTART;TZID=America/Los_Angeles:20270320T193000
DTEND;TZID=America/Los_Angeles:20270320T193000
DTSTAMP:20260424T165106
CREATED:20260324T195526Z
LAST-MODIFIED:20260324T195526Z
UID:6786-1805571000-1805571000@filmconcertslive.com
SUMMARY:How To Train Your Dragon in Concert
DESCRIPTION:
URL:https://filmconcertslive.com/concert/how-to-train-your-dragon-in-concert-145/
LOCATION:Boettcher Concert Hall\, 1000 14th St\, Denver\, CO\, 80202\, United States
CATEGORIES:How To Train Your Dragon
ATTACH;FMTTYPE=image/jpeg:https://filmconcertslive.com/wp-content/uploads/2023/06/HTTYD_Poster.jpg
END:VEVENT
END:VCALENDAR